BEGIN:VCALENDAR
VERSION:2.0
PRODID:-//ChamberMaster//Event Calendar 2.0//EN
METHOD:PUBLISH
X-PUBLISHED-TTL:P1H
REFRESH-INTERVAL:P1H
CALSCALE:GREGORIAN
BEGIN:VTIMEZONE
TZID:America/Los_Angeles
BEGIN:DAYLIGHT
RRULE:FREQ=YEARLY;BYMONTH=3;BYDAY=2SU
DTSTART:20070101T000000
TZOFFSETFROM:-0800
TZOFFSETTO:-0700
TZNAME:Pacific Daylight Time
END:DAYLIGHT
BEGIN:STANDARD
RRULE:FREQ=YEARLY;BYMONTH=11;BYDAY=1SU
DTSTART:20070101T000000
TZOFFSETFROM:-0700
TZOFFSETTO:-0800
TZNAME:Pacific Standard Time
END:STANDARD
END:VTIMEZONE
BEGIN:VEVENT
DTSTART;TZID=America/Los_Angeles:20260530T140000
DTEND;TZID=America/Los_Angeles:20260530T160000
X-MICROSOFT-CDO-ALLDAYEVENT:FALSE
SUMMARY:Sip & Craft Event
DESCRIPTION:Hosted by Operation Care in honor of Mental Health Awareness month. "Live Well\, Laugh Often\, Love Much."Ticket includes: guided painting class by Nancie Chopp and all materials needed to paint a beautiful flower vase with cherry blossoms\, glass of wine\, hors d'oeuvres\, and live music by Jeffrey Adams.There will also be a raffle (25 tickets for $20)
X-ALT-DESC;FMTTYPE=text/html:<!DOCTYPE html><html><head><title></title></head><body aria-disabled="false"><p>Hosted by Operation Care in honor of Mental Health Awareness month. &quot\;Live Well\, Laugh Often\, Love Much.&quot\;</p><p>Ticket includes: guided painting class by Nancie Chopp and all materials needed to paint a beautiful flower vase with cherry blossoms\, glass of wine\, hors d&#39\;oeuvres\, and live music by Jeffrey Adams.</p><p>There will also be a raffle (25 tickets for $20)&nbsp\;</p></body></html>
LOCATION:
UID:e.501.1436234
SEQUENCE:3
DTSTAMP:20260424T130017Z
URL:https://members.amadorchamber.com/chamber-events/Details/sip-craft-event-1700173?sourceTypeId=Hub
END:VEVENT
END:VCALENDAR
