BEGIN:VCALENDAR
VERSION:2.0
PRODID:-//ChamberMaster//Event Calendar 2.0//EN
METHOD:PUBLISH
X-PUBLISHED-TTL:P1H
REFRESH-INTERVAL:P1H
CALSCALE:GREGORIAN
BEGIN:VTIMEZONE
TZID:America/Los_Angeles
BEGIN:DAYLIGHT
RRULE:FREQ=YEARLY;BYMONTH=3;BYDAY=2SU
DTSTART:20070101T000000
TZOFFSETFROM:-0800
TZOFFSETTO:-0700
TZNAME:Pacific Daylight Time
END:DAYLIGHT
BEGIN:STANDARD
RRULE:FREQ=YEARLY;BYMONTH=11;BYDAY=1SU
DTSTART:20070101T000000
TZOFFSETFROM:-0700
TZOFFSETTO:-0800
TZNAME:Pacific Standard Time
END:STANDARD
END:VTIMEZONE
BEGIN:VEVENT
DTSTART;TZID=America/Los_Angeles:20260510T103000
DTEND;TZID=America/Los_Angeles:20260510T153000
X-MICROSOFT-CDO-ALLDAYEVENT:FALSE
SUMMARY:Mother's Day Brunch at CMR
DESCRIPTION:Last year's Mother's Day Brunch was a good one. So we're doing it again. Join us under the Trellis for a late-morning buffet that is crafted with seasonal ingredients\, in a setting that urges you to lean into conversations and linger a bit longer. \nBring Mom. Bring the family. Settle in for a slow Sunday at the Ranch   the kind where you lose track of time in the best way. \nThe Menu | A little indulgent. A little unexpected. Totally worth it. Petite Florentine Frittatas (GF\, DF available with advanced notice) Tomato\, spinach\, fontina cheese\, and persillade sauce \nCider Glazed Bacon (GF) Hobbs thick-cut pork belly\, black pepper \nNew Potato Hash (GF\, DF\, V) Sweet onions\, peppers\, garden herbs \nCh vre Leek Quiche (V) \nOlive Oil Poached Salmon (GF\, DF without sides) Seared Brussels sprouts\, toasted sesame seeds\, scallion vinaigrette. Butter toasted croutons & shaved parmesan on the side \nGrilled Chicken Breast (GF\, DF) \nSimple Arugula Salad (GF\, V) Crispy shallots\, parmesan\, scallion vinaigrette \nFresh Fruit & Berries (GF\, V) Whipped cream\, toasted coconut \nBrioche Banana Bread Pudding (V) Butterscotch syrup\, whipped cream \nThe Experience | Elevated brunch at the Ranch with ease. A glass of estate wine in hand\, sun shining through the Trellis slats\, and the quiet thrill of realizing this might be one of those days the kind you remember. Whether you're raising a glass to Mom\, to yourself\, or to Sundays done properly\, we'll make sure it's a brunch worth remembering. \nGo on make it happen. Because this isn't just any brunch. This is Mom's brunch. \nReservations Required | Limited Seating | (1) Glass Included in Adult TicketAdditional wine will be available for purchase. \n$100 | adults $50 | 12 & under \n*Wine Club members will receive discount upon check out. \nGet Tickets
X-ALT-DESC;FMTTYPE=text/html:<!DOCTYPE html><html><head><title></title></head><body aria-disabled="false"><p><strong fr-original-style="" style="font-weight: 700\;">Last year&rsquo\;s Mother&rsquo\;s Day Brunch was a good one. So we&rsquo\;re doing it again. </strong></p><p>Join us under the Trellis for a late-morning buffet that is crafted with seasonal ingredients\, in a setting that urges you to lean into conversations and linger a bit longer.&nbsp\;</p><p><br></p><p>Bring Mom. Bring the family. Settle in for a slow Sunday at the Ranch &mdash\; the kind where you lose track of time in the best way.&nbsp\;</p><p><br></p><p><strong fr-original-style="" style="font-weight: 700\;">The Menu | A little indulgent. A little unexpected. Totally worth it.&nbsp\;</strong></p><p>Petite Florentine Frittatas (GF\, DF available with advanced notice)&nbsp\;</p><p>Tomato\, spinach\, fontina cheese\, and persillade sauce&nbsp\;</p><p><br></p><p>Cider Glazed Bacon (GF)&nbsp\;</p><p>Hobbs thick-cut pork belly\, black pepper&nbsp\;</p><p><br></p><p>New Potato Hash (GF\, DF\, V)&nbsp\;</p><p>Sweet onions\, peppers\, garden herbs&nbsp\;</p><p><br></p><p>Ch&egrave\;vre Leek Quiche (V)&nbsp\;</p><p><br></p><p>Olive Oil Poached Salmon (GF\, DF without sides)&nbsp\;</p><p>Seared Brussels sprouts\, toasted sesame seeds\, scallion vinaigrette. Butter toasted croutons &amp\; shaved parmesan on the side&nbsp\;</p><p><br></p><p>Grilled Chicken Breast (GF\, DF)&nbsp\;</p><p><br></p><p>Simple Arugula Salad (GF\, V)&nbsp\;</p><p>Crispy shallots\, parmesan\, scallion vinaigrette&nbsp\;</p><p><br></p><p>Fresh Fruit &amp\; Berries (GF\, V)&nbsp\;</p><p>Whipped cream\, toasted coconut&nbsp\;</p><p><br></p><p>Brioche Banana Bread Pudding (V)&nbsp\;</p><p>Butterscotch syrup\, whipped cream&nbsp\;</p><p><br></p><p><strong fr-original-style="" style="font-weight: 700\;">The Experience | Elevated brunch at the Ranch with ease.&nbsp\;</strong></p><p>A glass of estate wine in hand\, sun shining through the Trellis slats\, and the quiet thrill of realizing this might be one of those days&mdash\;the kind you remember. Whether you&rsquo\;re raising a glass to Mom\, to yourself\, or to Sundays done properly\, we&rsquo\;ll make sure it&rsquo\;s a brunch worth remembering.&nbsp\;</p><p><br></p><p>Go on&mdash\;make it happen. Because this isn&rsquo\;t just any brunch. This is Mom&rsquo\;s brunch.&nbsp\;</p><p><br></p><p><strong fr-original-style="" style="font-weight: 700\;">Reservations Required | Limited Seating | (1) Glass Included in Adult Ticket</strong></p><p><em>Additional wine will be available for purchase.&nbsp\;</em></p><p><br></p><p>$100 | adults&nbsp\;</p><p>$50 | 12 &amp\; under&nbsp\;</p><p><br></p><p><em>*Wine Club members will receive discount upon check out. </em></p><p><br></p><p><a fr-original-style="" href="https://www.casinomineranch.com/product/mothers-day-brunch-under-the-trellis-/" style="user-select: auto\;"><strong fr-original-style="" style="font-weight: 700\;">Get Tickets</strong></a></p></body></html>
LOCATION:10690 Shenandoah Rd Plymouth CA 95669
UID:e.501.1442811
SEQUENCE:3
DTSTAMP:20260424T124217Z
URL:https://members.amadorchamber.com/chamber-events/Details/mother-s-day-brunch-at-cmr-1708930?sourceTypeId=Hub
END:VEVENT
END:VCALENDAR
