BEGIN:VCALENDAR
VERSION:2.0
PRODID:-//ChamberMaster//Event Calendar 2.0//EN
METHOD:PUBLISH
X-PUBLISHED-TTL:P1H
REFRESH-INTERVAL:P1H
CALSCALE:GREGORIAN
BEGIN:VTIMEZONE
TZID:America/Los_Angeles
BEGIN:DAYLIGHT
RRULE:FREQ=YEARLY;BYMONTH=3;BYDAY=2SU
DTSTART:20070101T000000
TZOFFSETFROM:-0800
TZOFFSETTO:-0700
TZNAME:Pacific Daylight Time
END:DAYLIGHT
BEGIN:STANDARD
RRULE:FREQ=YEARLY;BYMONTH=11;BYDAY=1SU
DTSTART:20070101T000000
TZOFFSETFROM:-0700
TZOFFSETTO:-0800
TZNAME:Pacific Standard Time
END:STANDARD
END:VTIMEZONE
BEGIN:VEVENT
DTSTART;TZID=America/Los_Angeles:20260505T180000
DTEND;TZID=America/Los_Angeles:20260505T193000
X-MICROSOFT-CDO-ALLDAYEVENT:FALSE
SUMMARY:Amador Youth Substance Trends: A Panel Discussion
DESCRIPTION:Join the SSAY Coalition for an essential conversation on local marijuana and alcohol usage\, with representation from Law Enforcement\, Amador County Unified School District\, Amador County Public Health\, and Voices of the Youth. Meeting is hybrid via Zoom. \n(ZOOM MEETING ID: 816 1936 2779 - PASSCODE: 123456)
X-ALT-DESC;FMTTYPE=text/html:<!DOCTYPE html><html><head><title></title></head><body aria-disabled="false"><p>Join the SSAY Coalition for an essential conversation on local marijuana and alcohol usage\, with representation from Law Enforcement\, Amador County Unified School District\, Amador County Public Health\, and Voices of the Youth. Meeting is hybrid via Zoom.&nbsp\;</p><p><br></p><p>(ZOOM MEETING ID: 816 1936 2779 - PASSCODE: 123456)</p></body></html>
LOCATION:501 Argonaut Lane Jackson CA 95642
UID:e.501.1442810
SEQUENCE:3
DTSTAMP:20260424T130238Z
URL:https://members.amadorchamber.com/chamber-events/Details/amador-youth-substance-trends-a-panel-discussion-1708929?sourceTypeId=Hub
END:VEVENT
END:VCALENDAR
